Workbook

Sheet 1. 자재집계표(간지)
A1: 1. 자재집계표

Sheet 1.1 관급자재집계표
A1: 1. 자재집계표
A2: 1.1 관급자재집계표
B3: 가. 레미콘 (관급자재)
B4: 공 종 | C4: 규 격 | D4: 단 위 | E4: 합 계 | F4: 비 고
B5: ='1.2 주요자재집계표'!B4 -> 레미콘 | C5: ='1.2 주요자재집계표'!C4 -> 25-30-120 | D5: m3 | E5: ='1.2 주요자재집계표'!E4 -> 218 | F5: 관급자재

Sheet 1.2 주요자재집계표
A1: 1.2 주요자재집계표
B2: 가. 레미콘 (관급자재)
B3: 공 종 | C3: 규 격 | D3: 단 위 | E3: 합 계 | F3: 비 고
B4: ='2.1 주요자재집계표'!B6 -> 레미콘 | C4: ='2.1 주요자재집계표'!C6 -> 25-30-120 | D4: m3 | E4: ='2.3 상부공'!F4 -> 218 | F4: 관급자재
B6: 나. 기 타
B7: 공 종 | C7: 규 격 | D7: 단 위 | E7: 합 계 | F7: 비 고
B8: 프리캐스트 패널 | C8: ='2.2 구체공'!B4 -> 3.8B×6.0L×0.25H | D8: EA | E8: ='2.2 구체공'!F4 -> 4
B9: ='2.3 상부공'!A6 -> 와이어메쉬 | C9: ='2.3 상부공'!B6 -> #8, 150x150 | D9: m2 | E9: ='2.3 상부공'!F6 -> 636
B10: ='2.3 상부공'!A11 -> 모서리보호공 | C10: ='2.3 상부공'!B11 -> RC FENDER, 150HW×2,000L | D10: EA | E10: ='2.3 상부공'!F11 -> 12
B11: ='2.3 상부공'!A12 -> 계선환(STS 304) 봉강 | C11: ='2.3 상부공'!B12 -> Φ32×1,000L | D11: kg | E11: ='2.3 상부공'!F12 -> 29

Sheet 1. 폐기물 수량집계표
A1: 1. 폐기물 수량집계표
B2: 가. 폐기물 처리
B3: 공 종 | C3: 규 격 | D3: 단 위 | E3: 합 계 | F3: 비 고
B4: ='2.1 주요자재집계표'!B19 -> 폐기물 처리 | C4: ='2.1 주요자재집계표'!C19 -> 폐콘크리트 | D4: ton | E4: ='2.1 주요자재집계표'!H19 -> 175.54
H10: sdd
F14: ㅇ

Sheet 2. 선착장공(간지)
A1: 2. 선착장공

Sheet 2.1 주요자재집계표
A1: 2. 선착장공
A2: 2.1 주요자재집계표
B3: 가. 레미콘 (관급자재)
B4: 공 종 | C4: 규 격 | D4: 단 위 | E4: 수 량 | H4: 합 계 | I4: 비 고
E5: 제거공 | F5: 구체공 | G5: 상부공
B6: ='2.3 상부공'!A4 -> 레미콘 | C6: ='2.3 상부공'!B4 -> 25-30-120 | D6: m3 | E6: 0 | F6: 0 | G6: ='2.3 상부공'!F4 -> 218 | H6: =SUM(E6:G6) -> 218 | I6: 관급자재
B8: 나. 기 타
B9: 공 종 | C9: 규 격 | D9: 단 위 | E9: 수 량 | H9: 합 계 | I9: 비 고
E10: 제거공 | F10: 구체공 | G10: 상부공
B11: 프리캐스트 판넬 | C11: ='2.2 구체공'!B4 -> 3.8B×6.0L×0.25H | D11: EA | E11: 0 | F11: ='2.2 구체공'!F4 -> 4 | G11: 0 | H11: =SUM(E11:G11) -> 4
B12: ='2.3 상부공'!A6 -> 와이어메쉬 | C12: ='2.3 상부공'!B6 -> #8, 150x150 | D12: m2 | E12: 0 | F12: 0 | G12: ='2.3 상부공'!F6 -> 636 | H12: =SUM(E12:G12) -> 636
B13: ='2.3 상부공'!A11 -> 모서리보호공 | C13: ='2.3 상부공'!B11 -> RC FENDER, 150HW×2,000L | D13: EA | E13: 0 | F13: 0 | G13: ='2.3 상부공'!F11 -> 12 | H13: =SUM(E13:G13) -> 12
B14: ='2.3 상부공'!A12 -> 계선환(STS 304) 봉강 | C14: ='2.3 상부공'!B12 -> Φ32×1,000L | D14: kg | E14: 0 | F14: 0 | G14: ='2.3 상부공'!F12 -> 29 | H14: =SUM(E14:G14) -> 29
B16: 다. 폐기물 처리
B17: 공 종 | C17: 규 격 | D17: 단 위 | E17: 수 량 | H17: 합 계 | I17: 비 고
E18: 제거공 | F18: 구체공 | G18: 상부공
B19: ='2 제거공'!A7 -> 폐기물 처리 | C19: ='2 제거공'!B7 -> 폐콘크리트 | D19: ton | E19: ='2 제거공'!F7 -> 175.54 | F19: 0 | G19: 0 | H19: =SUM(E19:G19) -> 175.54

Sheet 2 제거공
A1: 2 제거공(선착장공)
A2: 가. 제거공 수량집계표
A3: 공 종 | B3: 규 격 | C3: 단 위 | D3: 수 량 | E3: 할 증 | F3: 합 계 | G3: 비 고
A4: ='3. 제거공 산출근거'!A33 -> 콘크리트 절단 | B4: ='3. 제거공 산출근거'!B33 -> T=30cm | C4: m | D4: ='3. 제거공 산출근거'!AJ35 -> 79.9 | F4: =ROUND(D4*(1+E4),0) -> 80
A5: ='3. 제거공 산출근거'!A37 -> 무근콘크리트 깨기 | B5: ='3. 제거공 산출근거'!B37 -> T=30cm | C5: m3 | D5: ='3. 제거공 산출근거'!AJ39 -> 76.32 | F5: =ROUND(D5*(1+E5),0) -> 76
A6: ='3. 제거공 산출근거'!A42 -> 콘크리트 치핑 | C6: m2 | D6: ='3. 제거공 산출근거'!AJ42 -> 294.02 | F6: =ROUND(D6*(1+E6),0) -> 294
A7: ='3. 제거공 산출근거'!A47 -> 폐기물 처리 | B7: ='3. 제거공 산출근거'!B47 -> 폐콘크리트 | C7: ton | D7: ='3. 제거공 산출근거'!AJ49 -> 175.536 | F7: =ROUND(D7*(1+E7),2) -> 175.54

Sheet 3. 제거공 산출근거
A1: 제거공 산출근거
A2: 공 종 | B2: 규 격 | C2: 산 출 근 거 | AJ2: 수 량
A33: 콘크리트 절단 | B33: T=30cm | D33: L | E33: = | F33: (1차) | H33: 12.2 | J33: + | K33: =H33 -> 12.2 | M33: + | N33: =K33 -> 12.2 | P33: + | Q33: =N33 -> 12.2 | S33: + | T33: 8 | V33: + | W33: 7.9 | AC33: = | AD33: =H33+K33+N33+Q33+T33+W33 -> 64.7 | AH33: m
F34: (2차) | H34: 3.8 | J34: + | K34: =H34 -> 3.8 | M34: + | N34: =K34 -> 3.8 | P34: + | Q34: =N34 -> 3.8 | AC34: = | AD34: =H34+K34+N34+Q34 -> 15.2 | AH34: m
F35: (합계) | AC35: = | AD35: =AD33+AD34 -> 79.9 | AH35: m | AJ35: =AD35 -> 79.9 | AK35: m
A37: 무근콘크리트 깨기 | B37: T=30cm | D37: V | E37: = | F37: (1차) | H37: ( | I37: =H33 -> 12.2 | K37: × | L37: =T33 -> 8 | N37: + | O37: =I37 -> 12.2 | Q37: × | R37: =W33 -> 7.9 | T37: ) | U37: × | V37: 0.3 | AC37: = | AD37: =(I37*L37+O37*R37)*V37 -> 58.194 | AH37: ㎥
F38: (2차) | H38: ( | I38: =H34 -> 3.8 | K38: × | L38: =T33 -> 8 | N38: + | O38: =I38 -> 3.8 | Q38: × | R38: =W33 -> 7.9 | T38: ) | U38: × | V38: 0.3 | AC38: = | AD38: =(I38*L38+O38*R38)*V38 -> 18.126 | AH38: ㎥
F39: (합계) | AC39: = | AD39: =AD37+AD38 -> 76.32 | AH39: ㎥ | AJ39: =AD39 -> 76.32 | AK39: ㎥
A42: 콘크리트 치핑 | D42: A | E42: = | F42: (1차) | H42: =I37 -> 12.2 | J42: × | K42: 24.1 | AC42: = | AD42: =H42*K42 -> 294.02 | AH42: ㎡ | AJ42: =AD42 -> 294.02 | AK42: ㎡
A47: 폐기물 처리 | B47: 폐콘크리트 | D47: W | E47: = | F47: (1차) | H47: =AD37 -> 58.194 | J47: × | K47: 2.3 | AC47: = | AD47: =H47*K47 -> 133.8462 | AH47: ton
F48: (2차) | H48: =AD38 -> 18.126 | J48: × | K48: 2.3 | AC48: = | AD48: =H48*K48 -> 41.6898 | AH48: ton
F49: (합계) | AC49: = | AD49: =AD48+AD47 -> 175.536 | AH49: ton | AJ49: =AD49 -> 175.536 | AK49: ton

Sheet 2.2 구체공
A1: 2.2 구체공
A2: 가. 구체공 수량집계표
A3: 공 종 | B3: 규 격 | C3: 단 위 | D3: 수 량 | E3: 할 증 | F3: 합 계 | G3: 비 고
A4: ='나. 구체공 산출근거'!A30 -> 프리캐스트 패널 제작 및 설치 | B4: ='나. 구체공 산출근거'!B30 -> 3.8B×6.0L×0.25H | C4: EA | D4: ='나. 구체공 산출근거'!AJ30 -> 4 | F4: =ROUND(D4*(1+E4),0) -> 4

Sheet 나. 구체공 산출근거
A1: 나. 구체공 산출근거
A2: 공 종 | B2: 규 격 | C2: 산 출 근 거 | AJ2: 수 량
A30: 프리캐스트 패널 제작 및 설치 | B30: 3.8B×6.0L×0.25H | D30: N | E30: = | F30: 4 | H30: EA | AJ30: =F30 -> 4 | AK30: EA

Sheet 2.3 상부공
A1: 2.3 상부공
A2: 가. 상부공 수량집계표
A3: 공 종 | B3: 규 격 | C3: 단 위 | D3: 수 량 | E3: 할 증 | F3: 합 계 | G3: 비 고
A4: ='나. 상부공 산출근거'!A33 -> 레미콘 | B4: ='나. 상부공 산출근거'!B33 -> 25-30-120 | C4: m3 | D4: ='나. 상부공 산출근거'!AD38 -> 214.1335 | E4: 0.02 | F4: =ROUNDDOWN(D4*(1+E4),0) -> 218
A5: ='나. 상부공 산출근거'!A41 -> 콘크리트 타설 | B5: ='나. 상부공 산출근거'!B41 -> 무근 수중, type-Ⅱ | C5: m3 | D5: ='나. 상부공 산출근거'!AJ43 -> 214.1335 | F5: =ROUND(D5*(1+E5),0) -> 214
A6: ='나. 상부공 산출근거'!A45 -> 와이어메쉬 | B6: ='나. 상부공 산출근거'!B45 -> #8, 150x150 | C6: m2 | D6: ='나. 상부공 산출근거'!AD47 -> 548.42 | E6: 0.16 | F6: =ROUND(D6*(1+E6),0) -> 636
A7: ='나. 상부공 산출근거'!A54 -> 거푸집 | B7: ='나. 상부공 산출근거'!B54 -> 유로폼(0~7m, 보통) | C7: m2 | D7: ='나. 상부공 산출근거'!AJ60 -> 56.415 | F7: =ROUND(D7*(1+E7),0) -> 56
A8: ='나. 상부공 산출근거'!A63 -> 상치지보공 | C8: m | D8: ='나. 상부공 산출근거'!AJ65 -> 80 | F8: =ROUND(D8*(1+E8),0) -> 80
A9: ='나. 상부공 산출근거'!A67 -> 시공이음 | B9: 익스펜션 조인트 휠러(t=20mm) | C9: m2 | D9: ='나. 상부공 산출근거'!AD71 -> 30.015 | E9: 0.05 | F9: =ROUND(D9*(1+E9),0) -> 32
B10: 조인트 실란트 | C10: kg | D10: ='나. 상부공 산출근거'!AD78 -> 41.448 | E10: 0.05 | F10: =ROUND(D10*(1+E10),0) -> 44
A11: ='나. 상부공 산출근거'!A81 -> 모서리보호공 | B11: ='나. 상부공 산출근거'!B81 -> RC FENDER, 150HW×2,000L | C11: EA | D11: ='나. 상부공 산출근거'!AJ81 -> 12 | F11: =ROUND(D11*(1+E11),0) -> 12
A12: ='나. 상부공 산출근거'!A84 -> 계선환(STS 304) 봉강 | B12: ='나. 상부공 산출근거'!B84 -> Φ32×1,000L | C12: kg | D12: ='나. 상부공 산출근거'!AD84 -> 28.01 | E12: 0.05 | F12: =ROUND(D12*(1+E12),0) -> 29
A13: ='나. 상부공 산출근거'!A87 -> 잡철물 제작 및 설치 | B13: ='나. 상부공 산출근거'!B87 -> 경량철재 | C13: kg | D13: ='나. 상부공 산출근거'!AJ87 -> 28.01 | F13: =ROUND(D13*(1+E13),0) -> 28

Sheet 나. 상부공 산출근거
A1: 나. 상부공 산출근거
A2: 공 종 | B2: 규 격 | C2: 산 출 근 거 | AJ2: 수 량
A33: 레미콘 | B33: 25-30-120 | D33: V | E33: = | F33: (1차) | H33: ( | I33: 0.3 | K33: + | L33: 0.6 | N33: ) | O33: / | P33: 2 | R33: × | S33: ( | T33: 8 | V33: + | W33: 7.9 | Y33: ) | Z33: × | AA33: 12.2
H34: + | I34: 0.3 | K34: × | L34: =40-T33-W33 -> 24.1 | N34: × | O34: =AA33 -> 12.2 | AC34: = | AD34: =(I33+L33)/P33*(T33+W33)*AA33+I34*L34*O34 -> 175.497 | AH34: ㎥
F35: (2차) | H35: ( | I35: =I33 -> 0.3 | K35: + | L35: =L33 -> 0.6 | N35: ) | O35: / | P35: 2 | R35: × | S35: ( | T35: =T33 -> 8 | V35: + | W35: =W33 -> 7.9 | Y35: ) | Z35: × | AA35: 3.8 | AC35: = | AD35: =(I35+L35)/P35*(T35+W35)*AA35 -> 27.189 | AH35: ㎥
F36: (2차, 바닥콘크리트) ※ 프리캐스트 판낼 거치구간의 횡방향 경사로 인해 레벨링 콘크리트 타설
H37: ( | I37: 0.05 | K37: + | L37: 0.2 | N37: ) | O37: / | P37: 2 | R37: × | S37: =AA35 -> 3.8 | U37: × | V37: =L34 -> 24.1 | AC37: = | AD37: =(I37+L37)/P37*S37*V37 -> 11.4475 | AH37: ㎥
F38: (합계) | AC38: = | AD38: =AD34+AD35+AD37 -> 214.1335 | AH38: ㎥
X39: (ADD : | Z39: 2 | AB39: % | AC39: = | AD39: =ROUNDDOWN(AD38*(1+Z39/100),2) -> 218.41 | AH39: ㎥) | AJ39: =AD39 -> 218.41 | AK39: ㎥
A41: 콘크리트 타설 | B41: 무근 수중, type-Ⅱ | D41: V | E41: = | F41: (1차) | H41: =AD34 -> 175.497 | J41: ㎥ | AC41: = | AD41: =H41 -> 175.497 | AH41: ㎥
F42: (2차) | H42: =AD35+AD37 -> 38.6365 | J42: ㎥ | AC42: = | AD42: =H42 -> 38.6365 | AH42: ㎥
F43: (합계) | AC43: = | AD43: =AD41+AD42 -> 214.1335 | AH43: ㎥ | AJ43: =AD43 -> 214.1335 | AK43: ㎥
A45: 와이어메쉬 | B45: #8, 150x150 | D45: A | E45: = | F45: (1차) | H45: ( | I45: =T33 -> 8 | K45: + | L45: =W33 -> 7.9 | N45: ) | O45: × | P45: =AA33 -> 12.2 | R45: + | S45: =L34 -> 24.1 | U45: × | V45: =O34 -> 12.2 | AC45: = | AD45: =(I45+L45)*P45+S45*V45 -> 488 | AH45: ㎡
F46: (2차) | H46: ( | I46: =T35 -> 8 | K46: + | L46: =W35 -> 7.9 | N46: ) | O46: × | P46: =AA35 -> 3.8 | AC46: = | AD46: =(I46+L46)*P46 -> 60.42 | AH46: ㎡
F47: (합계) | AC47: = | AD47: =AD46+AD45 -> 548.42 | AH47: ㎡
X48: (ADD : | Z48: 16 | AB48: % | AC48: = | AD48: =ROUNDDOWN(AD47*(1+Z48/100),2) -> 636.16 | AH48: ㎡) | AJ48: =AD48 -> 636.16 | AK48: ㎡
A54: 거푸집 | B54: 유로폼(0~7m, 보통) | D54: A | E54: = | F54: (1차) | H54: ( | I54: =I33 -> 0.3 | K54: + | L54: =L33 -> 0.6 | N54: ) | O54: / | P54: 2 | R54: × | S54: ( | T54: =T33 -> 8 | V54: + | W54: =W33 -> 7.9 | Y54: ) | Z54: × | AA54: 2
H55: + | I55: =I34 -> 0.3 | K55: × | L55: =L34 -> 24.1 | N55: × | O55: 2
H56: + | I56: 0.3 | K56: × | L56: =AA33 -> 12.2 | N56: × | O56: 3 | AC56: = | AD56: =(I54+L54)/P54*(T54+W54)*AA54+I55*L55*O55+I56*L56*O56 -> 39.75 | AH56: ㎡
F57: (2차) | H57: ( | I57: =I35 -> 0.3 | K57: + | L57: =L35 -> 0.6 | N57: ) | O57: / | P57: 2 | R57: × | S57: ( | T57: =T35 -> 8 | V57: + | W57: =W35 -> 7.9 | Y57: )
H58: + | I58: =I57 -> 0.3 | K58: × | L58: =AA35 -> 3.8 | N58: × | O58: 2 | AC58: = | AD58: =(I57+L57)/P57*(T57+W57)+I58*L58*O58 -> 9.435 | AH58: ㎡
F59: (2차, 바닥콘크리트) | L59: 0.3 | N59: × | O59: =V37 -> 24.1 | AC59: = | AD59: =L59*O59 -> 7.23 | AH59: ㎡
F60: (합계) | AC60: = | AD60: =AD56+AD58+AD59 -> 56.415 | AH60: ㎡ | AJ60: =AD60 -> 56.415 | AK60: ㎡
A63: 상치지보공 | D63: L | E63: = | F63: (1차) | H63: 40 | J63: m | AC63: = | AD63: =H63 -> 40 | AH63: m
F64: (2차) | H64: 40 | J64: m | AC64: = | AD64: =H64 -> 40 | AH64: m
F65: (합계) | AC65: = | AD65: =AD63+AD64 -> 80 | AH65: m | AJ65: =AD65 -> 80 | AK65: m
A67: 시공이음
A68: - 익스펜션 조인트 휠러 | B68: t=20mm | D68: A | E68: = | F68: (1차) | H68: 0.6 | J68: × | K68: =AA33 -> 12.2 | M68: × | N68: 2 | P68: + | Q68: 0.3 | S68: × | T68: =K68 -> 12.2 | V68: × | W68: 1 | AC68: = | AD68: =H68*K68*N68+Q68*T68*W68 -> 18.3 | AH68: ㎡
F69: (2차) | H69: =H68 -> 0.6 | J69: × | K69: =AA35 -> 3.8 | M69: × | N69: 2
H70: + | I70: ( | J70: =I57 -> 0.3 | L70: + | M70: =L57 -> 0.6 | O70: ) | P70: / | Q70: 2 | S70: × | T70: ( | U70: =T57 -> 8 | W70: + | X70: =W57 -> 7.9 | Z70: ) | AC70: = | AD70: =H69*K69*N69+(J70+M70)/Q70*(U70+X70) -> 11.715 | AH70: ㎡
F71: (합계) | AC71: = | AD71: =AD68+AD70 -> 30.015 | AH71: ㎡
X72: (ADD : | Z72: 5 | AB72: % | AC72: = | AD72: =ROUNDDOWN(AD71*(1+Z72/100),2) -> 31.51 | AH72: ㎡) | AJ72: =AD72 -> 31.51 | AK72: ㎡
A73: 시공이음
A74: - 조인트 실란트 | D74: W | E74: = | F74: (1차) | H74: ( | I74: 0.03 | K74: × | L74: 0.02 | N74: ) | O74: × | P74: (( | Q74: =K68 -> 12.2 | S74: + | T74: =H68 -> 0.6 | V74: ) | W74: × | X74: =N68 -> 2
H75: + | I75: ( | J75: =T68 -> 12.2 | L75: + | M75: =Q68 -> 0.3 | O75: ) | P75: × | Q75: =W68 -> 1 | S75: ) | T75: × | U75: 1100 | AC75: = | AD75: =(I74*L74)*((Q74+T74)*X74+(J75+M75)*Q75)*U75 -> 25.146 | AH75: kg
F76: (2차) | H76: ( | I76: =I74 -> 0.03 | K76: × | L76: =L74 -> 0.02 | N76: ) | O76: × | P76: (( | Q76: =K69 -> 3.8 | S76: + | T76: =H69 -> 0.6 | V76: ) | W76: × | X76: 2
H77: + | I77: =T33 -> 8 | K77: + | L77: =W33 -> 7.9 | N77: ) | O77: × | P77: 1100 | AC77: = | AD77: =(I76*L76)*((Q76+T76)*X76+I77+L77)*P77 -> 16.302 | AH77: kg
F78: (합계) | AC78: = | AD78: =AD75+AD77 -> 41.448 | AH78: kg
X79: (ADD : | Z79: 5 | AB79: % | AC79: = | AD79: =ROUNDDOWN(AD78*(1+Z79/100),2) -> 43.52 | AH79: kg) | AJ79: =AD79 -> 43.52 | AK79: kg
A81: 모서리보호공 | B81: RC FENDER, 150HW×2,000L | D81: N | E81: = | F81: =4*6/2 -> 12 | H81: EA | AC81: = | AD81: =F81 -> 12 | AH81: EA | AJ81: =AD81 -> 12 | AK81: EA
A84: 계선환(STS 304) 봉강 | B84: Φ32×1,000L | D84: N | E84: = | F84: 5 | H84: EA | I84: × | J84: 1 | L84: m | M84: × | N84: 5.602 | AC84: = | AD84: =F84*J84*N84 -> 28.01 | AH84: kg
X85: (ADD : | Z85: 5 | AB85: % | AC85: = | AD85: =ROUNDDOWN(AD84*(1+Z85/100),2) -> 29.41 | AH85: kg) | AJ85: =AD85 -> 29.41 | AK85: kg
A87: 잡철물 제작 및 설치 | B87: 경량철재 | D87: W | E87: = | F87: =AD84 -> 28.01 | AC87: = | AD87: =F87 -> 28.01 | AH87: kg | AJ87: =AD87 -> 28.01 | AK87: kg

Sheet 2.5 포장공
A1: 2.5 포장공
A2: 가. 포장공 수량집계표
A3: 공 종 | B3: 규 격 | C3: 단 위 | D3: 수 량 | E3: 할 증 | F3: 합 계 | G3: 비 고
A4: 레미콘 | B4: 25-30-120 | C4: m3 | D4: ='나. 포장공 산출근거'!AD39 -> 1417.81 | E4: 0.02 | F4: =ROUNDDOWN(D4*(1+E4),0) -> 1446
A5: 콘크리트 타설 | B5: 무근 | C5: m3 | D5: ='나. 포장공 산출근거'!AJ42 -> 1417.81 | F5: =ROUND(D5*(1+E5),0) -> 1418
A6: 거푸집 | B6: 유로폼(0~7m) | C6: m2 | D6: ='나. 포장공 산출근거'!AJ45 -> 1052.01 | F6: =ROUND(D6*(1+E6),0) -> 1052
A7: 비 계 | B7: 3개월 이하 | C7: m2 | D7: ='나. 포장공 산출근거'!AJ47 -> 791.759 | F7: =ROUND(D7*(1+E7),0) -> 792
A8: 시공이음 | B8: TYPE-A | C8: 개소 | D8: ='나. 포장공 산출근거'!AJ63 -> 9 | F8: =ROUND(D8*(1+E8),0) -> 9
B9: TYPE-B | C9: 개소 | D9: ='나. 포장공 산출근거'!AJ71 -> 9 | F9: =ROUND(D9*(1+E9),0) -> 9
A10: 상치지보공 | C10: m | D10: ='나. 포장공 산출근거'!AJ79 -> 184.13 | F10: =ROUND(D10*(1+E10),0) -> 184
A11: 인명구조함 | C11: 개소 | D11: ='나. 포장공 산출근거'!AJ81 -> 1 | F11: =ROUND(D11*(1+E11),0) -> 1
A12: 안전난간 설치 | B12: W3,000 × H1,200 | C12: m | D12: ='나. 포장공 산출근거'!AJ84 -> 164.35 | F12: =ROUND(D12*(1+E12),0) -> 164 | G12: 방사제측 및 계단부

Sheet 나. 포장공 산출근거
A1: 나. 포장공 산출근거
A2: 공 종 | B2: 규 격 | C2: 산 출 근 거 | AJ2: 수 량
A33: 1. 레미콘 | B33: 25-30-120 | D33: 외측길이 | G33: : | H33: 5 | K33: + | L33: 57.13 | O33: + | P33: 86.3 | S33: + | T33: 35.7 | X33: = | Y33: =H33+L33+P33+T33 -> 184.13 | AB33: m
D34: 내측길이 | G34: : | H34: 3.3 | K34: + | L34: 53.85 | O34: + | P34: 81.78 | S34: + | T34: 32.8 | X34: = | Y34: =H34+L34+P34+T34 -> 171.73 | AB34: m
D35: 시점 단면 | G35: : | H35: 8.64 | K35: ㎡
D36: 종점 단면 | G36: : | H36: 7.36 | K36: ㎡
D38: V | E38: = | F38: ( | G38: =H35 -> 8.64 | I38: + | J38: =H36 -> 7.36 | L38: ) | M38: / | N38: 2 | P38: × | Q38: ( | R38: =H33 -> 5 | T38: + | U38: =L33 -> 57.13 | W38: + | X38: =T33 -> 35.7 | Z38: )
F39: + | G39: =H36 -> 7.36 | I39: × | J39: =P33 -> 86.3 | AC39: = | AD39: =ROUND((G38+J38)/N38*(R38+U38+X38)+G39*J39,2) -> 1417.81 | AH39: ㎥
X40: ( ADD | Z40: 0.02 | AB40: ) | AC40: = | AD40: =ROUNDDOWN(AD39*(1+Z40),2) -> 1446.16 | AH40: ㎥ | AJ40: =AD40 -> 1446.16 | AK40: ㎥
A42: 2. 콘크리트 타설 | B42: 무근 | D42: V | E42: = | F42: =AJ39 -> 0 | AC42: = | AD42: =AD39 -> 1417.81 | AH42: ㎥ | AJ42: =AD42 -> 1417.81 | AK42: ㎥
A44: 3. 거푸집 | B44: 유로폼 | D44: A | E44: = | F44: 2.8 | H44: × | I44: =Y33 -> 184.13 | L44: + | M44: ( | N44: 2 | P44: + | Q44: 1.6 | S44: ) | T44: / | U44: 2 | W44: × | X44: ( | Y44: =H34 -> 3.3 | AA44: + | AB44: =L34 -> 53.85 | AD44: + | AE44: =T34 -> 32.8 | AG44: )
F45: + | G45: =Q44 -> 1.6 | I45: × | J45: =P34 -> 81.78 | L45: + | M45: 1.3416 | O45: × | P45: 181.64 | S45: (파라핏 중심길이) | AC45: = | AD45: =ROUND(F44*I44+(N44+Q44)/U44*(Y44+AB44+AE44)+G45*J45+M45*P45,2) -> 1052.01 | AH45: ㎡ | AJ45: =AD45 -> 1052.01 | AK45: ㎡
A47: 4. 비계 | B47: 3개월 이하 | D47: A | E47: = | F47: ( | G47: =F44-0.5 -> 2.3 | I47: + | J47: =N44 -> 2 | L47: ) | M47: × | N47: =I44 -> 184.13 | AC47: = | AD47: =(G47+J47)*N47 -> 791.759 | AH47: ㎡ | AJ47: =AD47 -> 791.759 | AK47: ㎡
A51: 5. 시공이음
A63: 1) TYPE-A | AJ63: 9 | AK63: 개소
A64: - 단위수량
A65: a. Joint Sealer | B65: t=12mm | D65: W | E65: = | F65: (( | G65: 0.052 | I65: + | J65: 0.012 | L65: ) | M65: × | N65: 0.02 | P65: / | Q65: 2 | S65: + | T65: 0.012 | V65: × | W65: 0.02 | Y65: )
E66: × | F66: ( | G66: =0.5+1.166+2.9 -> 4.566 | I66: + | J66: 2.8 | L66: ) | M66: × | N66: 1100 | AC66: = | AD66: =((G65+J65)*N65/Q65+T65*W65)*(G66+J66)*N66 -> 7.130288 | AH66: kg
X67: ( ADD | Z67: 0.05 | AB67: ) | AC67: = | AD67: =ROUNDDOWN(AD66*(1+Z67),2) -> 7.48 | AH67: kg | AJ67: =AD67 -> 7.48 | AK67: kg
A68: b. 합판 | B68: t=12mm | D68: A | E68: = | F68: 8 | I68: (Area) | AC68: = | AD68: =F68 -> 8 | AH68: ㎡
X69: ( ADD | Z69: 0.1 | AB69: ) | AC69: = | AD69: =ROUNDDOWN(AD68*(1+Z69),2) -> 8.8 | AH69: ㎡ | AJ69: =AD69 -> 8.8 | AK69: ㎡
A71: 2) TYPE-B | AJ71: 9 | AK71: 개소
A72: - 단위수량
A73: a. Joint Sealer | B73: t=12mm | D73: W | E73: = | F73: (( | G73: 0.052 | I73: + | J73: 0.012 | L73: ) | M73: × | N73: 0.02 | P73: / | Q73: 2 | S73: + | T73: 0.012 | V73: × | W73: 0.02 | Y73: )
E74: × | F74: ( | G74: =0.5+1.342+2.9 -> 4.742 | I74: + | J74: 2.8 | L74: ) | M74: × | N74: 1100 | AC74: = | AD74: =((G73+J73)*N73/Q73+T73*W73)*(G74+J74)*N74 -> 7.300656 | AH74: kg
X75: ( ADD | Z75: 0.05 | AB75: ) | AC75: = | AD75: =ROUNDDOWN(AD74*(1+Z75),2) -> 7.66 | AH75: kg | AJ75: =AD75 -> 7.66 | AK75: kg
A76: b. 합판 | B76: t=12mm | D76: A | E76: = | F76: 7.36 | I76: (Area) | AC76: = | AD76: =F76 -> 7.36 | AH76: ㎡
X77: ( ADD | Z77: 0.1 | AB77: ) | AC77: = | AD77: =ROUNDDOWN(AD76*(1+Z77),2) -> 8.09 | AH77: ㎡ | AJ77: =AD77 -> 8.09 | AK77: ㎡
A79: 6. 상치지보공 | D79: L | E79: = | F79: =I44 -> 184.13 | AC79: = | AD79: =F79 -> 184.13 | AH79: m | AJ79: =AD79 -> 184.13 | AK79: m
A81: 7. 인명구조함 | D81: N | E81: = | F81: 1 | AC81: = | AD81: 1 | AH81: 개소 | AJ81: =AD81 -> 1 | AK81: 개소
A83: 8. 안전난간 설치 | B83: W3,000 × H1,200 | D83: L | E83: = | F83: ( | G83: 25 | I83: - | J83: 1.25 | L83: ) | M83: + | N83: ( | O83: 36 | Q83: - | R83: =1.25*2 -> 2.5 | T83: ) | U83: + | V83: ( | W83: 45 | Y83: - | Z83: =1.25*2 -> 2.5 | AB83: )
F84: + | G84: ( | H84: 39.25 | J84: - | K84: 1.25 | M84: ) | N84: + | O84: ( | P84: 3.8 | R84: × | S84: 7 | U84: ) | V84: (계단옆) | AC84: = | AD84: =(G83-J83)+(O83-R83)+(W83-Z83)+(H84-K84)+(P84*S84) -> 164.35 | AH84: m | AJ84: =AD84 -> 164.35 | AK84: m
